BEGIN:VCALENDAR
VERSION:2.0
PRODID:-//30+ Dancing Party - ECPv6.15.18//NONSGML v1.0//EN
CALSCALE:GREGORIAN
METHOD:PUBLISH
X-WR-CALNAME:30+ Dancing Party
X-ORIGINAL-URL:https://www.dancing-party.nl
X-WR-CALDESC:Evenementen voor 30+ Dancing Party
REFRESH-INTERVAL;VALUE=DURATION:PT1H
X-Robots-Tag:noindex
X-PUBLISHED-TTL:PT1H
BEGIN:VTIMEZONE
TZID:Europe/Amsterdam
BEGIN:DAYLIGHT
TZOFFSETFROM:+0100
TZOFFSETTO:+0200
TZNAME:CEST
DTSTART:20250330T010000
END:DAYLIGHT
BEGIN:STANDARD
TZOFFSETFROM:+0200
TZOFFSETTO:+0100
TZNAME:CET
DTSTART:20251026T010000
END:STANDARD
BEGIN:DAYLIGHT
TZOFFSETFROM:+0100
TZOFFSETTO:+0200
TZNAME:CEST
DTSTART:20260329T010000
END:DAYLIGHT
BEGIN:STANDARD
TZOFFSETFROM:+0200
TZOFFSETTO:+0100
TZNAME:CET
DTSTART:20261025T010000
END:STANDARD
BEGIN:DAYLIGHT
TZOFFSETFROM:+0100
TZOFFSETTO:+0200
TZNAME:CEST
DTSTART:20270328T010000
END:DAYLIGHT
BEGIN:STANDARD
TZOFFSETFROM:+0200
TZOFFSETTO:+0100
TZNAME:CET
DTSTART:20271031T010000
END:STANDARD
END:VTIMEZONE
BEGIN:VEVENT
DTSTART;TZID=Europe/Amsterdam:20261121T200000
DTEND;TZID=Europe/Amsterdam:20261122T010000
DTSTAMP:20260422T163546
CREATED:20251128T163631Z
LAST-MODIFIED:20260422T130928Z
UID:10000105-1795291200-1795309200@www.dancing-party.nl
SUMMARY:30•40•50+ Dancing Party - Dordrecht
DESCRIPTION:14 maart 2026				\n				\n				\n				\n					vanaf 20:00 uur				\n				\n					\n		\n					\n		\n					\n		\n					\n		\n				\n						\n					\n			\n						\n				\n					Early Bird tickets online voor € 13\,50 (op=op) Regular tickets online  t/m de laatste maandag voor het feest voor € 15\,00 Last Week tickets online en de avond zelf aan de deur voor € 17\,50 (indien nog voorradig)				\n				\n				\n				\n					\n	\n\n		\n		\n		\n\n		\n\n\n		\n		\n	\n	\n		Onderstaand nummer bevat de tickets voor dit evenement in je winkelwagen. Klik op "Koop Tickets" om bestaande deelnemersinformatie aan te passen en de hoeveelheid tickets aan te passen.	\n\n\n		\n		\n		\n	\n		Tickets zijn niet meer beschikbaar	\n\n\n		\n	\n	\n\n	\n	\n\n	\n	\n\n\n\n	\n\n	\n\n\n				\n				\n				\n				\n									Het ticket voor 30+ Dancing Party is inclusief heel veel en kent geen verborgen kosten zoals fee en boekingskosten. Denk ook aan parkeren\, garderobe\, toiletgebruik en snacks. Alles zit erbij en anders vermelden wij het! 								\n				\n					\n		\n					\n		\n				\n							\n							\n					\n			\n						\n				\n					\n	30•40•50+ Dancing Party – Nijkerk				\n				\n				\n						\n					\n			\n						\n				\n					Datum				\n				\n				\n				\n					\n		\n			14 maart\n\n		\n	\n	  -  \n\n	15 maart\n\n	\n				\n				\n					\n		\n				\n			\n						\n				\n					Tijd				\n				\n				\n				\n					\n		\n		\n\n\n20:00 uur\n\n	\n\n		\n\n\n\n	\n	  -  \n\n01:00 uur\n\n\n\n	\n				\n				\n					\n		\n				\n			\n						\n				\n					Locatie				\n				\n				\n				\n									’t KoetshuisSpoorstraat 343862 AD Nijkerk 								\n				\n					\n		\n				\n			\n						\n				\n					Route				\n				\n				\n				\n									Klik hier om de route te bekijken. 								\n				\n					\n		\n				\n			\n						\n				\n					Socials				\n				\n				\n				\n							\n							\n					\n						Facebook-square\n											\n				\n							\n					\n						Instagram\n											\n				\n					\n						\n				\n					\n		\n					\n		\n				\n				\n							\n			\n						\n		\n						\n				\n				\n				\n					\n	30•40•50+ Dancing Party – Nijkerk				\n				\n				\n						\n					\n			\n						\n				\n					\n	\n				\n				\n					\n		\n				\n			\n						\n				\n									Het dansfeest is vanaf 20:00 uur en voor iedereen vanaf 30 jaar dus iedereen die ouder is dan 30 jaar. Het is een “ouderwets” gezellig feest dat vroeg begint en waar de DJ de originele hits vanaf de 70’s tot en met de recente hits draait – voor elk wat wils. Gedurende de avond komen we ook met een bitterbal of een andere lekkere snack voorbij. Uiteraard zijn verzoekjes welkom als je er maar lekker op kunt dansen. 								\n				\n				\n				\n									30+ Dancing Party vindt plaats in een sfeervolle\, gezellige\, mooie en in de regio zeer bekende locatie: Partycentrum ’t Koetshuis in Nijkerk. De locatie en Nijkerk – Gelderse Vallei – zijn erg centraal gelegen en zeer goed bereikbaar met de auto vanaf Harderwijk\, Ermelo\, Putten\, Zeewolde\, Voorthuizen\, Barneveld\, Leusden\, Ede\, Bunschoten-Spakenburg\, Hoogland\, Hoevelaken en Amersfoort. Ook met het OV goed bereikbaar want het station ligt aan de overkant. ’t Koetshuis – in hartje Nijkerk – heeft een ruime dansvloer\, statafels\, café/lounge zitgedeelte en grote bar plus topbediening. Het is ook mogelijk om voor het feest een hapje te eten. Kijk op de site voor alle mogelijkheden en maak de uitgaansavond compleet. ’t Koetshuis = feestelijke gezelligheid. Gedurende de avond komen er enkele snacks voorbij en parkeren (rondom ’t Koetshuis en bij station)\, garderobe en toiletgebruik zijn gratis. Overnachten is eventueel mogelijk in bijvoorbeeld het vlakbij gelegen Hotel De Roode Schuur en Golden Tulip Ampt Van Nijkerk. Wij kijken uit naar jullie komst! Team 30+ Dancing Party 								\n				\n					\n		\n					\n		\n					\n		\n					\n		\n				\n							\n							\n					\n			\n						\n				\n					Mis niets! Meld je aan voor de nieuwsbrief:				\n				\n				\n				\n									\n				\n					\n		\n					\n		\n				\n						\n					\n			\n						\n				\n					Meer over 30+ Dancing Party vind je hier:				\n				\n				\n				\n									\n					\n						\n									Klik hier
URL:https://www.dancing-party.nl/event/dordrecht/
LOCATION:Wantijpaviljoen\, Wantijpark 1\, Dordrecht\, Zuid-Holland\, 3312 AV\, Nederland
ATTACH;FMTTYPE=image/jpeg:https://www.dancing-party.nl/wp-content/uploads/2025/11/DP-DORDRECHT-21-11-2026-4-1.jpg
ORGANIZER;CN="30+ Dancing Party":MAILTO:info@dancing-party.nl
END:VEVENT
BEGIN:VEVENT
DTSTART;TZID=Europe/Amsterdam:20261121T200000
DTEND;TZID=Europe/Amsterdam:20261122T010000
DTSTAMP:20260422T163547
CREATED:20260315T064822Z
LAST-MODIFIED:20260410T124916Z
UID:10000124-1795291200-1795309200@www.dancing-party.nl
SUMMARY:30•40•50+ Dancing Party - Heemskerk
DESCRIPTION:14 maart 2026				\n				\n				\n				\n					vanaf 20:00 uur				\n				\n					\n		\n					\n		\n					\n		\n					\n		\n				\n						\n					\n			\n						\n				\n					Early Bird tickets online voor € 13\,50 (op=op) Regular tickets online  t/m de laatste maandag voor het feest voor € 15\,00 Last Week tickets online en de avond zelf aan de deur voor € 17\,50 (indien nog voorradig)				\n				\n				\n				\n					\n	\n\n		\n		\n		\n\n		\n\n\n		\n		\n	\n	\n		Onderstaand nummer bevat de tickets voor dit evenement in je winkelwagen. Klik op "Koop Tickets" om bestaande deelnemersinformatie aan te passen en de hoeveelheid tickets aan te passen.	\n\n\n		\n		\n		\n	\n		Tickets zijn niet meer beschikbaar	\n\n\n		\n	\n	\n\n	\n	\n\n	\n	\n\n\n\n	\n\n	\n\n\n				\n				\n				\n				\n									Het ticket voor 30+ Dancing Party is inclusief heel veel en kent geen verborgen kosten zoals fee en boekingskosten. Denk ook aan parkeren\, garderobe\, toiletgebruik en snacks. Alles zit erbij en anders vermelden wij het! 								\n				\n					\n		\n					\n		\n				\n							\n							\n					\n			\n						\n				\n					\n	30•40•50+ Dancing Party – Nijkerk				\n				\n				\n						\n					\n			\n						\n				\n					Datum				\n				\n				\n				\n					\n		\n			14 maart\n\n		\n	\n	  -  \n\n	15 maart\n\n	\n				\n				\n					\n		\n				\n			\n						\n				\n					Tijd				\n				\n				\n				\n					\n		\n		\n\n\n20:00 uur\n\n	\n\n		\n\n\n\n	\n	  -  \n\n01:00 uur\n\n\n\n	\n				\n				\n					\n		\n				\n			\n						\n				\n					Locatie				\n				\n				\n				\n									’t KoetshuisSpoorstraat 343862 AD Nijkerk 								\n				\n					\n		\n				\n			\n						\n				\n					Route				\n				\n				\n				\n									Klik hier om de route te bekijken. 								\n				\n					\n		\n				\n			\n						\n				\n					Socials				\n				\n				\n				\n							\n							\n					\n						Facebook-square\n											\n				\n							\n					\n						Instagram\n											\n				\n					\n						\n				\n					\n		\n					\n		\n				\n				\n							\n			\n						\n		\n						\n				\n				\n				\n					\n	30•40•50+ Dancing Party – Nijkerk				\n				\n				\n						\n					\n			\n						\n				\n					\n	\n				\n				\n					\n		\n				\n			\n						\n				\n									Het dansfeest is vanaf 20:00 uur en voor iedereen vanaf 30 jaar dus iedereen die ouder is dan 30 jaar. Het is een “ouderwets” gezellig feest dat vroeg begint en waar de DJ de originele hits vanaf de 70’s tot en met de recente hits draait – voor elk wat wils. Gedurende de avond komen we ook met een bitterbal of een andere lekkere snack voorbij. Uiteraard zijn verzoekjes welkom als je er maar lekker op kunt dansen. 								\n				\n				\n				\n									30+ Dancing Party vindt plaats in een sfeervolle\, gezellige\, mooie en in de regio zeer bekende locatie: Partycentrum ’t Koetshuis in Nijkerk. De locatie en Nijkerk – Gelderse Vallei – zijn erg centraal gelegen en zeer goed bereikbaar met de auto vanaf Harderwijk\, Ermelo\, Putten\, Zeewolde\, Voorthuizen\, Barneveld\, Leusden\, Ede\, Bunschoten-Spakenburg\, Hoogland\, Hoevelaken en Amersfoort. Ook met het OV goed bereikbaar want het station ligt aan de overkant. ’t Koetshuis – in hartje Nijkerk – heeft een ruime dansvloer\, statafels\, café/lounge zitgedeelte en grote bar plus topbediening. Het is ook mogelijk om voor het feest een hapje te eten. Kijk op de site voor alle mogelijkheden en maak de uitgaansavond compleet. ’t Koetshuis = feestelijke gezelligheid. Gedurende de avond komen er enkele snacks voorbij en parkeren (rondom ’t Koetshuis en bij station)\, garderobe en toiletgebruik zijn gratis. Overnachten is eventueel mogelijk in bijvoorbeeld het vlakbij gelegen Hotel De Roode Schuur en Golden Tulip Ampt Van Nijkerk. Wij kijken uit naar jullie komst! Team 30+ Dancing Party 								\n				\n					\n		\n					\n		\n					\n		\n					\n		\n				\n							\n							\n					\n			\n						\n				\n					Mis niets! Meld je aan voor de nieuwsbrief:				\n				\n				\n				\n									\n				\n					\n		\n					\n		\n				\n						\n					\n			\n						\n				\n					Meer over 30+ Dancing Party vind je hier:				\n				\n				\n				\n									\n					\n						\n									Klik hier
URL:https://www.dancing-party.nl/event/heemskerk/
LOCATION:Horeca De Jansheeren\, Maltezerplein 1\, Heemskerk\, Noord-Holland\, 1961 JC\, Nederland
ATTACH;FMTTYPE=image/jpeg:https://www.dancing-party.nl/wp-content/uploads/2026/02/DP-HEEMSKERK-21-11-2026-4.jpg
ORGANIZER;CN="30+ Dancing Party":MAILTO:info@dancing-party.nl
END:VEVENT
BEGIN:VEVENT
DTSTART;TZID=Europe/Amsterdam:20261128T200000
DTEND;TZID=Europe/Amsterdam:20261129T010000
DTSTAMP:20260422T163547
CREATED:20260117T112508Z
LAST-MODIFIED:20260129T103615Z
UID:10000117-1795896000-1795914000@www.dancing-party.nl
SUMMARY:30•40•50+ Dancing Party - Reeuwijk
DESCRIPTION:14 maart 2026				\n				\n				\n				\n					vanaf 20:00 uur				\n				\n					\n		\n					\n		\n					\n		\n					\n		\n				\n						\n					\n			\n						\n				\n					Early Bird tickets online voor € 13\,50 (op=op) Regular tickets online  t/m de laatste maandag voor het feest voor € 15\,00 Last Week tickets online en de avond zelf aan de deur voor € 17\,50 (indien nog voorradig)				\n				\n				\n				\n					\n	\n\n		\n		\n		\n\n		\n\n\n		\n		\n	\n	\n		Onderstaand nummer bevat de tickets voor dit evenement in je winkelwagen. Klik op "Koop Tickets" om bestaande deelnemersinformatie aan te passen en de hoeveelheid tickets aan te passen.	\n\n\n		\n		\n		\n	\n		Tickets zijn niet meer beschikbaar	\n\n\n		\n	\n	\n\n	\n	\n\n	\n	\n\n\n\n	\n\n	\n\n\n				\n				\n				\n				\n									Het ticket voor 30+ Dancing Party is inclusief heel veel en kent geen verborgen kosten zoals fee en boekingskosten. Denk ook aan parkeren\, garderobe\, toiletgebruik en snacks. Alles zit erbij en anders vermelden wij het! 								\n				\n					\n		\n					\n		\n				\n							\n							\n					\n			\n						\n				\n					\n	30•40•50+ Dancing Party – Nijkerk				\n				\n				\n						\n					\n			\n						\n				\n					Datum				\n				\n				\n				\n					\n		\n			14 maart\n\n		\n	\n	  -  \n\n	15 maart\n\n	\n				\n				\n					\n		\n				\n			\n						\n				\n					Tijd				\n				\n				\n				\n					\n		\n		\n\n\n20:00 uur\n\n	\n\n		\n\n\n\n	\n	  -  \n\n01:00 uur\n\n\n\n	\n				\n				\n					\n		\n				\n			\n						\n				\n					Locatie				\n				\n				\n				\n									’t KoetshuisSpoorstraat 343862 AD Nijkerk 								\n				\n					\n		\n				\n			\n						\n				\n					Route				\n				\n				\n				\n									Klik hier om de route te bekijken. 								\n				\n					\n		\n				\n			\n						\n				\n					Socials				\n				\n				\n				\n							\n							\n					\n						Facebook-square\n											\n				\n							\n					\n						Instagram\n											\n				\n					\n						\n				\n					\n		\n					\n		\n				\n				\n							\n			\n						\n		\n						\n				\n				\n				\n					\n	30•40•50+ Dancing Party – Nijkerk				\n				\n				\n						\n					\n			\n						\n				\n					\n	\n				\n				\n					\n		\n				\n			\n						\n				\n									Het dansfeest is vanaf 20:00 uur en voor iedereen vanaf 30 jaar dus iedereen die ouder is dan 30 jaar. Het is een “ouderwets” gezellig feest dat vroeg begint en waar de DJ de originele hits vanaf de 70’s tot en met de recente hits draait – voor elk wat wils. Gedurende de avond komen we ook met een bitterbal of een andere lekkere snack voorbij. Uiteraard zijn verzoekjes welkom als je er maar lekker op kunt dansen. 								\n				\n				\n				\n									30+ Dancing Party vindt plaats in een sfeervolle\, gezellige\, mooie en in de regio zeer bekende locatie: Partycentrum ’t Koetshuis in Nijkerk. De locatie en Nijkerk – Gelderse Vallei – zijn erg centraal gelegen en zeer goed bereikbaar met de auto vanaf Harderwijk\, Ermelo\, Putten\, Zeewolde\, Voorthuizen\, Barneveld\, Leusden\, Ede\, Bunschoten-Spakenburg\, Hoogland\, Hoevelaken en Amersfoort. Ook met het OV goed bereikbaar want het station ligt aan de overkant. ’t Koetshuis – in hartje Nijkerk – heeft een ruime dansvloer\, statafels\, café/lounge zitgedeelte en grote bar plus topbediening. Het is ook mogelijk om voor het feest een hapje te eten. Kijk op de site voor alle mogelijkheden en maak de uitgaansavond compleet. ’t Koetshuis = feestelijke gezelligheid. Gedurende de avond komen er enkele snacks voorbij en parkeren (rondom ’t Koetshuis en bij station)\, garderobe en toiletgebruik zijn gratis. Overnachten is eventueel mogelijk in bijvoorbeeld het vlakbij gelegen Hotel De Roode Schuur en Golden Tulip Ampt Van Nijkerk. Wij kijken uit naar jullie komst! Team 30+ Dancing Party 								\n				\n					\n		\n					\n		\n					\n		\n					\n		\n				\n							\n							\n					\n			\n						\n				\n					Mis niets! Meld je aan voor de nieuwsbrief:				\n				\n				\n				\n									\n				\n					\n		\n					\n		\n				\n						\n					\n			\n						\n				\n					Meer over 30+ Dancing Party vind je hier:				\n				\n				\n				\n									\n					\n						\n									Klik hier
URL:https://www.dancing-party.nl/event/reeuwijk/
LOCATION:Zalencentrum De Brug\, Dunantlaan 1\, Reeuwijk\, Zuid-Holland\, 2811 CA\, Nederland
ATTACH;FMTTYPE=image/jpeg:https://www.dancing-party.nl/wp-content/uploads/2026/01/DP-REEUWIJK-28-11-2026-4.jpg
ORGANIZER;CN="30+ Dancing Party":MAILTO:info@dancing-party.nl
END:VEVENT
BEGIN:VEVENT
DTSTART;TZID=Europe/Amsterdam:20261212T200000
DTEND;TZID=Europe/Amsterdam:20261213T010000
DTSTAMP:20260422T163547
CREATED:20251218T102851Z
LAST-MODIFIED:20260112T085013Z
UID:10000110-1797105600-1797123600@www.dancing-party.nl
SUMMARY:30•40•50+ Dancing Party - Hilversum - Kerst Editie - Christmas Party
DESCRIPTION:14 maart 2026				\n				\n				\n				\n					vanaf 20:00 uur				\n				\n					\n		\n					\n		\n					\n		\n					\n		\n				\n						\n					\n			\n						\n				\n					Early Bird tickets online voor € 13\,50 (op=op) Regular tickets online  t/m de laatste maandag voor het feest voor € 15\,00 Last Week tickets online en de avond zelf aan de deur voor € 17\,50 (indien nog voorradig)				\n				\n				\n				\n					\n	\n\n		\n		\n		\n\n		\n\n\n		\n		\n	\n	\n		Onderstaand nummer bevat de tickets voor dit evenement in je winkelwagen. Klik op "Koop Tickets" om bestaande deelnemersinformatie aan te passen en de hoeveelheid tickets aan te passen.	\n\n\n		\n		\n		\n	\n		Tickets zijn niet meer beschikbaar	\n\n\n		\n	\n	\n\n	\n	\n\n	\n	\n\n\n\n	\n\n	\n\n\n				\n				\n				\n				\n									Het ticket voor 30+ Dancing Party is inclusief heel veel en kent geen verborgen kosten zoals fee en boekingskosten. Denk ook aan parkeren\, garderobe\, toiletgebruik en snacks. Alles zit erbij en anders vermelden wij het! 								\n				\n					\n		\n					\n		\n				\n							\n							\n					\n			\n						\n				\n					\n	30•40•50+ Dancing Party – Nijkerk				\n				\n				\n						\n					\n			\n						\n				\n					Datum				\n				\n				\n				\n					\n		\n			14 maart\n\n		\n	\n	  -  \n\n	15 maart\n\n	\n				\n				\n					\n		\n				\n			\n						\n				\n					Tijd				\n				\n				\n				\n					\n		\n		\n\n\n20:00 uur\n\n	\n\n		\n\n\n\n	\n	  -  \n\n01:00 uur\n\n\n\n	\n				\n				\n					\n		\n				\n			\n						\n				\n					Locatie				\n				\n				\n				\n									’t KoetshuisSpoorstraat 343862 AD Nijkerk 								\n				\n					\n		\n				\n			\n						\n				\n					Route				\n				\n				\n				\n									Klik hier om de route te bekijken. 								\n				\n					\n		\n				\n			\n						\n				\n					Socials				\n				\n				\n				\n							\n							\n					\n						Facebook-square\n											\n				\n							\n					\n						Instagram\n											\n				\n					\n						\n				\n					\n		\n					\n		\n				\n				\n							\n			\n						\n		\n						\n				\n				\n				\n					\n	30•40•50+ Dancing Party – Nijkerk				\n				\n				\n						\n					\n			\n						\n				\n					\n	\n				\n				\n					\n		\n				\n			\n						\n				\n									Het dansfeest is vanaf 20:00 uur en voor iedereen vanaf 30 jaar dus iedereen die ouder is dan 30 jaar. Het is een “ouderwets” gezellig feest dat vroeg begint en waar de DJ de originele hits vanaf de 70’s tot en met de recente hits draait – voor elk wat wils. Gedurende de avond komen we ook met een bitterbal of een andere lekkere snack voorbij. Uiteraard zijn verzoekjes welkom als je er maar lekker op kunt dansen. 								\n				\n				\n				\n									30+ Dancing Party vindt plaats in een sfeervolle\, gezellige\, mooie en in de regio zeer bekende locatie: Partycentrum ’t Koetshuis in Nijkerk. De locatie en Nijkerk – Gelderse Vallei – zijn erg centraal gelegen en zeer goed bereikbaar met de auto vanaf Harderwijk\, Ermelo\, Putten\, Zeewolde\, Voorthuizen\, Barneveld\, Leusden\, Ede\, Bunschoten-Spakenburg\, Hoogland\, Hoevelaken en Amersfoort. Ook met het OV goed bereikbaar want het station ligt aan de overkant. ’t Koetshuis – in hartje Nijkerk – heeft een ruime dansvloer\, statafels\, café/lounge zitgedeelte en grote bar plus topbediening. Het is ook mogelijk om voor het feest een hapje te eten. Kijk op de site voor alle mogelijkheden en maak de uitgaansavond compleet. ’t Koetshuis = feestelijke gezelligheid. Gedurende de avond komen er enkele snacks voorbij en parkeren (rondom ’t Koetshuis en bij station)\, garderobe en toiletgebruik zijn gratis. Overnachten is eventueel mogelijk in bijvoorbeeld het vlakbij gelegen Hotel De Roode Schuur en Golden Tulip Ampt Van Nijkerk. Wij kijken uit naar jullie komst! Team 30+ Dancing Party 								\n				\n					\n		\n					\n		\n					\n		\n					\n		\n				\n							\n							\n					\n			\n						\n				\n					Mis niets! Meld je aan voor de nieuwsbrief:				\n				\n				\n				\n									\n				\n					\n		\n					\n		\n				\n						\n					\n			\n						\n				\n					Meer over 30+ Dancing Party vind je hier:				\n				\n				\n				\n									\n					\n						\n									Klik hier
URL:https://www.dancing-party.nl/event/hilversum-kerst/
LOCATION:Amrâth Hotel Lapershoek\, Utrechtseweg 16\, Hilversum\, Noord-Holland\, 1213 TS\, Nederland
ATTACH;FMTTYPE=image/jpeg:https://www.dancing-party.nl/wp-content/uploads/2025/12/DP-HILVERSUM-12-12-2026-4.jpg
ORGANIZER;CN="30+ Dancing Party":MAILTO:info@dancing-party.nl
END:VEVENT
BEGIN:VEVENT
DTSTART;TZID=Europe/Amsterdam:20261219T200000
DTEND;TZID=Europe/Amsterdam:20261220T010000
DTSTAMP:20260422T163547
CREATED:20251214T105921Z
LAST-MODIFIED:20260112T095139Z
UID:10000109-1797710400-1797728400@www.dancing-party.nl
SUMMARY:30•40•50+ Dancing Party - Groningen - Kerst Editie - Christmas Party
DESCRIPTION:14 maart 2026				\n				\n				\n				\n					vanaf 20:00 uur				\n				\n					\n		\n					\n		\n					\n		\n					\n		\n				\n						\n					\n			\n						\n				\n					Early Bird tickets online voor € 13\,50 (op=op) Regular tickets online  t/m de laatste maandag voor het feest voor € 15\,00 Last Week tickets online en de avond zelf aan de deur voor € 17\,50 (indien nog voorradig)				\n				\n				\n				\n					\n	\n\n		\n		\n		\n\n		\n\n\n		\n		\n	\n	\n		Onderstaand nummer bevat de tickets voor dit evenement in je winkelwagen. Klik op "Koop Tickets" om bestaande deelnemersinformatie aan te passen en de hoeveelheid tickets aan te passen.	\n\n\n		\n		\n		\n	\n		Tickets zijn niet meer beschikbaar	\n\n\n		\n	\n	\n\n	\n	\n\n	\n	\n\n\n\n	\n\n	\n\n\n				\n				\n				\n				\n									Het ticket voor 30+ Dancing Party is inclusief heel veel en kent geen verborgen kosten zoals fee en boekingskosten. Denk ook aan parkeren\, garderobe\, toiletgebruik en snacks. Alles zit erbij en anders vermelden wij het! 								\n				\n					\n		\n					\n		\n				\n							\n							\n					\n			\n						\n				\n					\n	30•40•50+ Dancing Party – Nijkerk				\n				\n				\n						\n					\n			\n						\n				\n					Datum				\n				\n				\n				\n					\n		\n			14 maart\n\n		\n	\n	  -  \n\n	15 maart\n\n	\n				\n				\n					\n		\n				\n			\n						\n				\n					Tijd				\n				\n				\n				\n					\n		\n		\n\n\n20:00 uur\n\n	\n\n		\n\n\n\n	\n	  -  \n\n01:00 uur\n\n\n\n	\n				\n				\n					\n		\n				\n			\n						\n				\n					Locatie				\n				\n				\n				\n									’t KoetshuisSpoorstraat 343862 AD Nijkerk 								\n				\n					\n		\n				\n			\n						\n				\n					Route				\n				\n				\n				\n									Klik hier om de route te bekijken. 								\n				\n					\n		\n				\n			\n						\n				\n					Socials				\n				\n				\n				\n							\n							\n					\n						Facebook-square\n											\n				\n							\n					\n						Instagram\n											\n				\n					\n						\n				\n					\n		\n					\n		\n				\n				\n							\n			\n						\n		\n						\n				\n				\n				\n					\n	30•40•50+ Dancing Party – Nijkerk				\n				\n				\n						\n					\n			\n						\n				\n					\n	\n				\n				\n					\n		\n				\n			\n						\n				\n									Het dansfeest is vanaf 20:00 uur en voor iedereen vanaf 30 jaar dus iedereen die ouder is dan 30 jaar. Het is een “ouderwets” gezellig feest dat vroeg begint en waar de DJ de originele hits vanaf de 70’s tot en met de recente hits draait – voor elk wat wils. Gedurende de avond komen we ook met een bitterbal of een andere lekkere snack voorbij. Uiteraard zijn verzoekjes welkom als je er maar lekker op kunt dansen. 								\n				\n				\n				\n									30+ Dancing Party vindt plaats in een sfeervolle\, gezellige\, mooie en in de regio zeer bekende locatie: Partycentrum ’t Koetshuis in Nijkerk. De locatie en Nijkerk – Gelderse Vallei – zijn erg centraal gelegen en zeer goed bereikbaar met de auto vanaf Harderwijk\, Ermelo\, Putten\, Zeewolde\, Voorthuizen\, Barneveld\, Leusden\, Ede\, Bunschoten-Spakenburg\, Hoogland\, Hoevelaken en Amersfoort. Ook met het OV goed bereikbaar want het station ligt aan de overkant. ’t Koetshuis – in hartje Nijkerk – heeft een ruime dansvloer\, statafels\, café/lounge zitgedeelte en grote bar plus topbediening. Het is ook mogelijk om voor het feest een hapje te eten. Kijk op de site voor alle mogelijkheden en maak de uitgaansavond compleet. ’t Koetshuis = feestelijke gezelligheid. Gedurende de avond komen er enkele snacks voorbij en parkeren (rondom ’t Koetshuis en bij station)\, garderobe en toiletgebruik zijn gratis. Overnachten is eventueel mogelijk in bijvoorbeeld het vlakbij gelegen Hotel De Roode Schuur en Golden Tulip Ampt Van Nijkerk. Wij kijken uit naar jullie komst! Team 30+ Dancing Party 								\n				\n					\n		\n					\n		\n					\n		\n					\n		\n				\n							\n							\n					\n			\n						\n				\n					Mis niets! Meld je aan voor de nieuwsbrief:				\n				\n				\n				\n									\n				\n					\n		\n					\n		\n				\n						\n					\n			\n						\n				\n					Meer over 30+ Dancing Party vind je hier:				\n				\n				\n				\n									\n					\n						\n									Klik hier
URL:https://www.dancing-party.nl/event/groningen-kerst/
LOCATION:Fletcher Familiehotel Paterswolde\, Groningerweg 19\, Groningen\, Groningen\, 9765 TA\, Nederland
ATTACH;FMTTYPE=image/jpeg:https://www.dancing-party.nl/wp-content/uploads/2025/12/DP-GRONINGEN-19-12-2026-4.jpg
ORGANIZER;CN="30+ Dancing Party":MAILTO:info@dancing-party.nl
END:VEVENT
BEGIN:VEVENT
DTSTART;TZID=Europe/Amsterdam:20261219T200000
DTEND;TZID=Europe/Amsterdam:20261220T010000
DTSTAMP:20260422T163547
CREATED:20251219T071624Z
LAST-MODIFIED:20260422T130831Z
UID:10000111-1797710400-1797728400@www.dancing-party.nl
SUMMARY:30•40•50+ Dancing Party - Delft - Kerst Editie - Christmas Party
DESCRIPTION:14 maart 2026				\n				\n				\n				\n					vanaf 20:00 uur				\n				\n					\n		\n					\n		\n					\n		\n					\n		\n				\n						\n					\n			\n						\n				\n					Early Bird tickets online voor € 13\,50 (op=op) Regular tickets online  t/m de laatste maandag voor het feest voor € 15\,00 Last Week tickets online en de avond zelf aan de deur voor € 17\,50 (indien nog voorradig)				\n				\n				\n				\n					\n	\n\n		\n		\n		\n\n		\n\n\n		\n		\n	\n	\n		Onderstaand nummer bevat de tickets voor dit evenement in je winkelwagen. Klik op "Koop Tickets" om bestaande deelnemersinformatie aan te passen en de hoeveelheid tickets aan te passen.	\n\n\n		\n		\n		\n	\n		Tickets zijn niet meer beschikbaar	\n\n\n		\n	\n	\n\n	\n	\n\n	\n	\n\n\n\n	\n\n	\n\n\n				\n				\n				\n				\n									Het ticket voor 30+ Dancing Party is inclusief heel veel en kent geen verborgen kosten zoals fee en boekingskosten. Denk ook aan parkeren\, garderobe\, toiletgebruik en snacks. Alles zit erbij en anders vermelden wij het! 								\n				\n					\n		\n					\n		\n				\n							\n							\n					\n			\n						\n				\n					\n	30•40•50+ Dancing Party – Nijkerk				\n				\n				\n						\n					\n			\n						\n				\n					Datum				\n				\n				\n				\n					\n		\n			14 maart\n\n		\n	\n	  -  \n\n	15 maart\n\n	\n				\n				\n					\n		\n				\n			\n						\n				\n					Tijd				\n				\n				\n				\n					\n		\n		\n\n\n20:00 uur\n\n	\n\n		\n\n\n\n	\n	  -  \n\n01:00 uur\n\n\n\n	\n				\n				\n					\n		\n				\n			\n						\n				\n					Locatie				\n				\n				\n				\n									’t KoetshuisSpoorstraat 343862 AD Nijkerk 								\n				\n					\n		\n				\n			\n						\n				\n					Route				\n				\n				\n				\n									Klik hier om de route te bekijken. 								\n				\n					\n		\n				\n			\n						\n				\n					Socials				\n				\n				\n				\n							\n							\n					\n						Facebook-square\n											\n				\n							\n					\n						Instagram\n											\n				\n					\n						\n				\n					\n		\n					\n		\n				\n				\n							\n			\n						\n		\n						\n				\n				\n				\n					\n	30•40•50+ Dancing Party – Nijkerk				\n				\n				\n						\n					\n			\n						\n				\n					\n	\n				\n				\n					\n		\n				\n			\n						\n				\n									Het dansfeest is vanaf 20:00 uur en voor iedereen vanaf 30 jaar dus iedereen die ouder is dan 30 jaar. Het is een “ouderwets” gezellig feest dat vroeg begint en waar de DJ de originele hits vanaf de 70’s tot en met de recente hits draait – voor elk wat wils. Gedurende de avond komen we ook met een bitterbal of een andere lekkere snack voorbij. Uiteraard zijn verzoekjes welkom als je er maar lekker op kunt dansen. 								\n				\n				\n				\n									30+ Dancing Party vindt plaats in een sfeervolle\, gezellige\, mooie en in de regio zeer bekende locatie: Partycentrum ’t Koetshuis in Nijkerk. De locatie en Nijkerk – Gelderse Vallei – zijn erg centraal gelegen en zeer goed bereikbaar met de auto vanaf Harderwijk\, Ermelo\, Putten\, Zeewolde\, Voorthuizen\, Barneveld\, Leusden\, Ede\, Bunschoten-Spakenburg\, Hoogland\, Hoevelaken en Amersfoort. Ook met het OV goed bereikbaar want het station ligt aan de overkant. ’t Koetshuis – in hartje Nijkerk – heeft een ruime dansvloer\, statafels\, café/lounge zitgedeelte en grote bar plus topbediening. Het is ook mogelijk om voor het feest een hapje te eten. Kijk op de site voor alle mogelijkheden en maak de uitgaansavond compleet. ’t Koetshuis = feestelijke gezelligheid. Gedurende de avond komen er enkele snacks voorbij en parkeren (rondom ’t Koetshuis en bij station)\, garderobe en toiletgebruik zijn gratis. Overnachten is eventueel mogelijk in bijvoorbeeld het vlakbij gelegen Hotel De Roode Schuur en Golden Tulip Ampt Van Nijkerk. Wij kijken uit naar jullie komst! Team 30+ Dancing Party 								\n				\n					\n		\n					\n		\n					\n		\n					\n		\n				\n							\n							\n					\n			\n						\n				\n					Mis niets! Meld je aan voor de nieuwsbrief:				\n				\n				\n				\n									\n				\n					\n		\n					\n		\n				\n						\n					\n			\n						\n				\n					Meer over 30+ Dancing Party vind je hier:				\n				\n				\n				\n									\n					\n						\n									Klik hier
URL:https://www.dancing-party.nl/event/delft-kerst/
LOCATION:Partycentrum De Schaapskooi\, Korftlaan 3\, Delft\, Zuid-Holland\, 2616 LJ\, Nederland
ATTACH;FMTTYPE=image/jpeg:https://www.dancing-party.nl/wp-content/uploads/2025/12/DP-DELFT-19-12-2026-4.jpg
ORGANIZER;CN="30+ Dancing Party":MAILTO:info@dancing-party.nl
END:VEVENT
END:VCALENDAR